BEGIN:VCALENDAR
VERSION:2.0
PRODID:-//hacksw/handcal//NONSGML v1.0//EN
BEGIN:VEVENT
UID:29767@unige.ch
DTSTAMP:20260501T180000Z
DTSTART:20260501T180000Z
DTEND:20260502T000000Z
SUMMARY:Bal chorégraphié du Passedanse
DESCRIPTION:La participation à l’atelier de préparation est facultative : vous pouvez tout à fait assister et participer au bal sans y prendre part.Entrée gratuite pour les étudiant-es.LieuComédie de Genève - salle modulableOuverture des portes dès 19h
LOCATION:Comédie de Genève - Esplanade Alice-Bailly, 1207 Genève
URL:https://vie-de-campus.unige.ch/catalogue/P4140
END:VEVENT
END:VCALENDAR
