BEGIN:VCALENDAR
VERSION:2.0
PRODID:-//hacksw/handcal//NONSGML v1.0//EN
BEGIN:VEVENT
UID:1402@unige.ch
DTSTAMP:20240425T081500Z
DTSTART:20240425T081500Z
DTEND:20240425T100000Z
SUMMARY:Définis ton objectif SMART et élabore un plan d’action
DESCRIPTION:La participation à cet atelier est un prérequis pour un coaching individuel.
LOCATION:Uni Dufour | U363 - Rue du Général-Dufour 24, 1204 Genève
URL:https://vie-de-campus.unige.ch/catalogue/P416
END:VEVENT
END:VCALENDAR
