BEGIN:VCALENDAR
VERSION:2.0
PRODID:-//hacksw/handcal//NONSGML v1.0//EN
BEGIN:VEVENT
UID:29796@unige.ch
DTSTAMP:20260326T151500Z
DTSTART:20260326T151500Z
DTEND:20260326T171500Z
SUMMARY:Winning Applications
DESCRIPTION:Alexandrina Iremciuc is a career advisor and HR specialist based in Geneva. She holds a PhD in Sociology from the University of Geneva and has extensive experience supporting doctoral candidates and researchers in their transition to non-academic careers. She currently works in the public sector in Geneva and also develops workshops and career development programmes focused on employability for PhDs, particularly within the international and policy-oriented environment of Geneva.
LOCATION:Uni Mail - Bd du Pont-d'Arve, 
URL:https://vie-de-campus.unige.ch/catalogue/P4170
END:VEVENT
END:VCALENDAR
