BEGIN:VCALENDAR
VERSION:2.0
PRODID:-//hacksw/handcal//NONSGML v1.0//EN
BEGIN:VEVENT
UID:29900@unige.ch
DTSTAMP:20260520T100000Z
DTSTART:20260520T100000Z
DTEND:20260520T101500Z
SUMMARY:Happening
DESCRIPTION:
LOCATION:Uni Mail | Hall - Boulevard du Pont-d'Arve 40, 1205 Genève
GEO:46.195339;6.140546
URL:https://vie-de-campus.unige.ch/catalogue/P4249
END:VEVENT
END:VCALENDAR
