BEGIN:VCALENDAR
VERSION:2.0
PRODID:-//hacksw/handcal//NONSGML v1.0//EN
BEGIN:VEVENT
UID:29901@unige.ch
DTSTAMP:20260519T101500Z
DTSTART:20260519T101500Z
DTEND:20260519T114500Z
SUMMARY:Atelier cosmétiques durables
DESCRIPTION:Gratuit, sur inscription (bouton ajouter au panier)
LOCATION:Uni Mail | M5193 - Boulevard du Pont d'Arve, 1205 Genève
GEO:46.195041;6.139897
URL:https://vie-de-campus.unige.ch/catalogue/P4250
END:VEVENT
END:VCALENDAR
