BEGIN:VCALENDAR
VERSION:2.0
PRODID:-//hacksw/handcal//NONSGML v1.0//EN
BEGIN:VEVENT
UID:1797@unige.ch
DTSTAMP:20241204T090000Z
DTSTART:20241204T090000Z
DTEND:20241204T092500Z
SUMMARY:Zoothérapie
DESCRIPTION:Rendez-vous sans inscription devant la salle à l’un des créneaux.Une limite de 10 personnes par créneau horaire devra être respectée. La priorité revient aux personnes arrivées en premier.Cette prestation est uniquement ouverte aux étudiant‑es UNIGE.
LOCATION:Uni Mail | M5393 - Boulevard du Pont d'Arve 40, 1205 Genève
GEO:46.195041;6.139897
URL:https://vie-de-campus.unige.ch/catalogue/P866
END:VEVENT
BEGIN:VEVENT
UID:1798@unige.ch
DTSTAMP:20241204T093000Z
DTSTART:20241204T093000Z
DTEND:20241204T095500Z
SUMMARY:Zoothérapie
DESCRIPTION:Rendez-vous sans inscription devant la salle à l’un des créneaux.Une limite de 10 personnes par créneau horaire devra être respectée. La priorité revient aux personnes arrivées en premier.Cette prestation est uniquement ouverte aux étudiant‑es UNIGE.
LOCATION:Uni Mail | M5393 - Boulevard du Pont d'Arve 40, 1205 Genève
GEO:46.195041;6.139897
URL:https://vie-de-campus.unige.ch/catalogue/P866
END:VEVENT
BEGIN:VEVENT
UID:1799@unige.ch
DTSTAMP:20241204T100000Z
DTSTART:20241204T100000Z
DTEND:20241204T102500Z
SUMMARY:Zoothérapie
DESCRIPTION:Rendez-vous sans inscription devant la salle à l’un des créneaux.Une limite de 10 personnes par créneau horaire devra être respectée. La priorité revient aux personnes arrivées en premier.Cette prestation est uniquement ouverte aux étudiant‑es UNIGE.
LOCATION:Uni Mail | M5393 - Boulevard du Pont d'Arve 40, 1205 Genève
GEO:46.195041;6.139897
URL:https://vie-de-campus.unige.ch/catalogue/P866
END:VEVENT
BEGIN:VEVENT
UID:1800@unige.ch
DTSTAMP:20241204T123000Z
DTSTART:20241204T123000Z
DTEND:20241204T125500Z
SUMMARY:Zoothérapie
DESCRIPTION:Rendez-vous sans inscription devant la salle à l’un des créneaux.Une limite de 10 personnes par créneau horaire devra être respectée. La priorité revient aux personnes arrivées en premier.Cette prestation est uniquement ouverte aux étudiant‑es UNIGE.
LOCATION:Uni Mail | M5393 - Boulevard du Pont d'Arve 40, 1205 Genève
GEO:46.195041;6.139897
URL:https://vie-de-campus.unige.ch/catalogue/P866
END:VEVENT
BEGIN:VEVENT
UID:1801@unige.ch
DTSTAMP:20241204T130000Z
DTSTART:20241204T130000Z
DTEND:20241204T132500Z
SUMMARY:Zoothérapie
DESCRIPTION:Rendez-vous sans inscription devant la salle à l’un des créneaux.Une limite de 10 personnes par créneau horaire devra être respectée. La priorité revient aux personnes arrivées en premier.Cette prestation est uniquement ouverte aux étudiant‑es UNIGE.
LOCATION:Uni Mail | M5393 - Boulevard du Pont d'Arve 40, 1205 Genève
GEO:46.195041;6.139897
URL:https://vie-de-campus.unige.ch/catalogue/P866
END:VEVENT
BEGIN:VEVENT
UID:1802@unige.ch
DTSTAMP:20241204T133000Z
DTSTART:20241204T133000Z
DTEND:20241204T135500Z
SUMMARY:Zoothérapie
DESCRIPTION:Rendez-vous sans inscription devant la salle à l’un des créneaux.Une limite de 10 personnes par créneau horaire devra être respectée. La priorité revient aux personnes arrivées en premier.Cette prestation est uniquement ouverte aux étudiant‑es UNIGE.
LOCATION:Uni Mail | M5393 - Boulevard du Pont d'Arve 40, 1205 Genève
GEO:46.195041;6.139897
URL:https://vie-de-campus.unige.ch/catalogue/P866
END:VEVENT
END:VCALENDAR
