BEGIN:VCALENDAR
VERSION:2.0
PRODID:-//hacksw/handcal//NONSGML v1.0//EN
BEGIN:VEVENT
UID:1807@unige.ch
DTSTAMP:20241210T081500Z
DTSTART:20241210T081500Z
DTEND:20241210T110000Z
SUMMARY:Explore ton avenir avec le jeu Reflectory!
DESCRIPTION:
LOCATION:Point Vie de Campus - 1er étage d'Uni Dufour, 1204 Genève
GEO:46.199735;6.142192
URL:https://vie-de-campus.unige.ch/catalogue/P874
END:VEVENT
END:VCALENDAR
